BEGIN:VCALENDAR
VERSION:2.0
PRODID:Accomack County Calendar Creator
METHOD:PUBLISH
BEGIN:VEVENT
DTSTAMP:20191107T105618
DTSTART:20191126T190000
DTEND:20191126T210000
SUMMARY:** Cancelled ** Planning Commission Work Session ** Cancelled **
DESCRIPTION:** Cancelled ** Planning Commission Work Session ** Cancelled **
X-ALT-DESC;FMTTYPE=text/html:** Cancelled ** Planning Commission Work Session ** Cancelled **
LOCATION:School Board Office Conference Room\, 23296 Courthouse Ave\, Suite 204 Accomac\, Virginia 23301
CLASS:PUBLIC
END:VEVENT
END:VCALENDAR
