BEGIN:VCALENDAR
VERSION:2.0
PRODID:Accomack County Calendar Creator
METHOD:PUBLISH
BEGIN:VEVENT
DTSTAMP:20191015T122922
DTSTART:20191106T190000
DTEND:20191106T210000
SUMMARY:*** RESCHEDULED *** Planning Commission Meeting *** RESCHEDULED***
DESCRIPTION:The agenda for this meeting will be posted on the County's paperless agenda website for viewing by the public on the Friday preceding the meeting date.<br><br>Go to&nbsp;<a href="http://www.boarddocs.com/va/coa/Board.nsf/Public" target="_blank">www.boarddocs.com/va/coa/Board.nsf/Public</a>&nbsp;to view the agenda.<br><br>For information regarding this public body including its purpose and members, go to Board Appointed Bodies Page on the County's website
X-ALT-DESC;FMTTYPE=text/html:The agenda for this meeting will be posted on the County's paperless agenda website for viewing by the public on the Friday preceding the meeting date.<br><br>Go to&nbsp;<a href="http://www.boarddocs.com/va/coa/Board.nsf/Public" target="_blank">www.boarddocs.com/va/coa/Board.nsf/Public</a>&nbsp;to view the agenda.<br><br>For information regarding this public body including its purpose and members, go to Board Appointed Bodies Page on the County's website
LOCATION:Board Chambers Room 104\, 23296 Courthouse Avenue Accomac\, Virginia 23301
CLASS:PUBLIC
END:VEVENT
END:VCALENDAR
