BEGIN:VCALENDAR
VERSION:2.0
PRODID:Accomack County Calendar Creator
METHOD:PUBLISH
BEGIN:VEVENT
DTSTAMP:20190806T111411
DTSTART:20190807T100000
DTEND:20190807T120000
SUMMARY:CANCELLED *** Accomack County Board of Zoning Appeals Meeting *** CANCELLED
DESCRIPTION:The BZA meeting scheduled for tomorrow has been cancelled due to not having a quorum.&nbsp; It has been rescheduled for Wednesday the 21st at 10:00 am.
X-ALT-DESC;FMTTYPE=text/html:The BZA meeting scheduled for tomorrow has been cancelled due to not having a quorum.&nbsp; It has been rescheduled for Wednesday the 21st at 10:00 am.
LOCATION:Board Chambers Room 104\, 23296 Courthouse Avenue Accomac\, Virginia 23301
CLASS:PUBLIC
END:VEVENT
END:VCALENDAR
