BEGIN:VCALENDAR
VERSION:2.0
PRODID:Accomack County Calendar Creator
METHOD:PUBLISH
BEGIN:VEVENT
DTSTAMP:20191210T112449
DTSTART:20191218T154500
DTEND:20191218T170000
SUMMARY:Special Board of Supervisors Meeting
DESCRIPTION:<p>The Accomack County Board of Supervisors' will hold a special meeting on Wednesday, December 18, 2019, at 3:45 p.m., in the Board of Supervisors Chambers(23296 Courthouse Ave. - Room 104)&nbsp; in Accomac, Virginia&nbsp; to consider the following items:</p><p>1) A resolution authorizing inclusion of the County in a petition to the Circuit Court which seeks to add the County to the Hampton Roads Sanitation District;</p><p>2) Receive a forestry report from the senior area forester, and</p><p>3) Other routine board matters such as budget amendments and payment of accounts payable.</p><p>This special meeting will be immediately followed by the Board’s regularly scheduled monthly meeting which will commence at 5:00 p.m. Public comment and any discussions regarding 2nd amendment sanctuary status will occur during the meeting beginning at 5:00 p.m.</p><p>The agenda for this meeting will be posted on the County's paperless agenda website for viewing by the public on the Friday preceding the meeting date.</p><p>Go to&nbsp;<a href="http://www.boarddocs.com/va/coa/Board.nsf/Public" target="_blank">www.boarddocs.com/va/coa/Board.nsf/Public</a>&nbsp;to view the agenda</p>
X-ALT-DESC;FMTTYPE=text/html:<p>The Accomack County Board of Supervisors' will hold a special meeting on Wednesday, December 18, 2019, at 3:45 p.m., in the Board of Supervisors Chambers(23296 Courthouse Ave. - Room 104)&nbsp; in Accomac, Virginia&nbsp; to consider the following items:</p><p>1) A resolution authorizing inclusion of the County in a petition to the Circuit Court which seeks to add the County to the Hampton Roads Sanitation District;</p><p>2) Receive a forestry report from the senior area forester, and</p><p>3) Other routine board matters such as budget amendments and payment of accounts payable.</p><p>This special meeting will be immediately followed by the Board’s regularly scheduled monthly meeting which will commence at 5:00 p.m. Public comment and any discussions regarding 2nd amendment sanctuary status will occur during the meeting beginning at 5:00 p.m.</p><p>The agenda for this meeting will be posted on the County's paperless agenda website for viewing by the public on the Friday preceding the meeting date.</p><p>Go to&nbsp;<a href="http://www.boarddocs.com/va/coa/Board.nsf/Public" target="_blank">www.boarddocs.com/va/coa/Board.nsf/Public</a>&nbsp;to view the agenda</p>
LOCATION:Board Chambers Room 104\, 23296 Courthouse Ave\, Suite 204\, Suite 204 Accomac\, Virginia 23301
CLASS:PUBLIC
END:VEVENT
END:VCALENDAR
