BEGIN:VCALENDAR
VERSION:2.0
PRODID:Accomack County Calendar Creator
METHOD:PUBLISH
BEGIN:VEVENT
DTSTAMP:20181024T113806
DTSTART:20190527T000000
DTEND:20190527T235900
SUMMARY:County Offices Closed
DESCRIPTION:Accomack County Offices are closed in observance of Memorial Day
X-ALT-DESC;FMTTYPE=text/html:Accomack County Offices are closed in observance of Memorial Day
LOCATION:
CLASS:PUBLIC
END:VEVENT
END:VCALENDAR
