BEGIN:VCALENDAR
VERSION:2.0
PRODID:Accomack County Calendar Creator
METHOD:PUBLISH
BEGIN:VEVENT
DTSTAMP:20181024T113805
DTSTART:20191014T000000
DTEND:20191014T235900
SUMMARY:County Offices Closed
DESCRIPTION:Accomack County Offices are closed in observance of Columbus Day
X-ALT-DESC;FMTTYPE=text/html:Accomack County Offices are closed in observance of Columbus Day
LOCATION:
CLASS:PUBLIC
END:VEVENT
END:VCALENDAR
