BEGIN:VCALENDAR
VERSION:2.0
PRODID:Accomack County Calendar Creator
METHOD:PUBLISH
BEGIN:VEVENT
DTSTAMP:20181024T113805
DTSTART:20191111T000000
DTEND:20191111T235900
SUMMARY:County Offices Closed
DESCRIPTION:Accomack County Offices are closed in observance of Veterans'&nbsp; Day
X-ALT-DESC;FMTTYPE=text/html:Accomack County Offices are closed in observance of Veterans'&nbsp; Day
LOCATION:
CLASS:PUBLIC
END:VEVENT
END:VCALENDAR
