BEGIN:VCALENDAR
VERSION:2.0
PRODID:Accomack County Calendar Creator
METHOD:PUBLISH
BEGIN:VEVENT
DTSTAMP:20181024T113805
DTSTART:20191127T120000
DTEND:20191127T235900
SUMMARY:County Offices Closing at noon
DESCRIPTION:Accomack County Offices are closing at Noon&nbsp; in observance of Thanksgiving
X-ALT-DESC;FMTTYPE=text/html:Accomack County Offices are closing at Noon&nbsp; in observance of Thanksgiving
LOCATION:
CLASS:PUBLIC
END:VEVENT
END:VCALENDAR
