BEGIN:VCALENDAR
VERSION:2.0
PRODID:Accomack County Calendar Creator
METHOD:PUBLISH
BEGIN:VEVENT
DTSTAMP:20181024T113804
DTSTART:20200101T000000
DTEND:20200101T235900
SUMMARY:County Offices Closed
DESCRIPTION:Accomack County Offices are closed in observance of New Years Day
X-ALT-DESC;FMTTYPE=text/html:Accomack County Offices are closed in observance of New Years Day
LOCATION:
CLASS:PUBLIC
END:VEVENT
END:VCALENDAR
